BEGIN:VCALENDAR
VERSION:2.0
PRODID:-//wp-events-plugin.com//7.2.3.1//EN
TZID:America/Denver
X-WR-TIMEZONE:America/Denver
BEGIN:VEVENT
UID:8@whollystromboli.com
DTSTART;TZID=America/Denver:20250111T170000
DTEND;TZID=America/Denver:20250111T210000
DTSTAMP:20241126T214802Z
URL:https://www.whollystromboli.com/events/sws-january-2025/
SUMMARY:Spirits with Spirits: A Glimpse Into 2025
DESCRIPTION:\n\nStep into 2025 with clarity and confidence at Wholly Stromb
 oli’s "Spirits with Spirits: A Glimpse Into 2025" dinner\, featuring per
 sonalized tarot card readings by renowned Evidential Medium Jen Welte! Exp
 erience a glimpse into your future with a 10-minute tarot session\, while 
 savoring our mouthwatering 3-course meal crafted by owner Melissa Rickman.
 \n\nHeld in our famously haunted venue\, as seen on Haunted Colorado\, th
 is unforgettable evening on January 11th (18+) includes unlimited coffee\,
  tea\, or soda\, and finishes with a liquor\, whiskey\, or mocktail Spirit
  Flight.\n\nReserve your spot now for a night of insight\, ambiance\, and 
 paranormal intrigue!\n\n\n&nbsp\;\n\nBuy Tickets
ATTACH;FMTTYPE=image/jpeg:https://www.whollystromboli.com/wp-content/uploa
 ds/2024/11/SpiritSprits2025_Social.png
CATEGORIES:Speakeasy
LOCATION:Wholly Stromboli\, 410 Denver Avenue\, Fort Lupton\, Colorado\, 80
 621\, United States
X-APPLE-STRUCTURED-LOCATION;VALUE=URI;X-ADDRESS=410 Denver Avenue\, Fort Lu
 pton\, Colorado\, 80621\, United States;X-APPLE-RADIUS=100;X-TITLE=Wholly 
 Stromboli:geo:0,0
END:VEVENT
BEGIN:VTIMEZONE
TZID:America/Denver
X-LIC-LOCATION:America/Denver
BEGIN:STANDARD
DTSTART:20241103T010000
TZOFFSETFROM:-0600
TZOFFSETTO:-0700
TZNAME:MST
END:STANDARD
END:VTIMEZONE
END:VCALENDAR