BEGIN:VCALENDAR
VERSION:2.0
PRODID:-//wp-events-plugin.com//7.2.3.1//EN
TZID:America/Denver
X-WR-TIMEZONE:America/Denver
BEGIN:VEVENT
UID:1@whollystromboli.com
DTSTART;TZID=America/Denver:20241024T053000
DTEND;TZID=America/Denver:20241024T080000
DTSTAMP:20241024T170018Z
URL:https://www.whollystromboli.com/events/spirits-with-spirits/
SUMMARY:Spirits With Spirits
DESCRIPTION:Join us on October 24th from 5:30 to 8 PM (18+) for an unfo
 rgettable evening. Enjoy a 3-course meal\, a 10-minute reading with Eviden
 tial Medium Jen Welte\, unlimited coffee\, tea\, or soda\, and end the nig
 ht with a liquor\, whiskey\, or mocktail Spirit Flight.\n\nStart the eveni
 ng with your choice of appetizer or dessert\, followed by a fresh salad an
 d a special entrée crafted by owner Melissa Rickman. Jen will offer 10-mi
 nute readings in mediumship\, astrology\, or tarot—even connecting with 
 your pets! Don’t forget your birth city and time for astrology readings\
 n\nGet Tickets
ATTACH;FMTTYPE=image/jpeg:https://www.whollystromboli.com/wp-content/uploa
 ds/2024/10/SpiritSprits_Social.png
CATEGORIES:Speakeasy
END:VEVENT
BEGIN:VTIMEZONE
TZID:America/Denver
X-LIC-LOCATION:America/Denver
BEGIN:DAYLIGHT
DTSTART:20240310T030000
TZOFFSETFROM:-0700
TZOFFSETTO:-0600
TZNAME:MDT
END:DAYLIGHT
END:VTIMEZONE
END:VCALENDAR