BEGIN:VCALENDAR
VERSION:2.0
PRODID:-//wp-events-plugin.com//7.2.3.1//EN
TZID:America/Denver
X-WR-TIMEZONE:America/Denver
BEGIN:VEVENT
UID:3@whollystromboli.com
DTSTART;TZID=America/Denver:20241231T180000
DTEND;TZID=America/Denver:20241231T220000
DTSTAMP:20241029T220126Z
URL:https://www.whollystromboli.com/events/nye-bash-2024/
SUMMARY:NYE Roaring 20s Bash
DESCRIPTION:Transport yourself to the dazzling era of the Great Gatsby and 
 join us as we revel in the New Year at our splendid soiree at the Speakea
 sy Event Center at Wholly Stromboli\, accompanied by the captivating tunes
  of the Finaleyes Band!\n\nFrom 6:00 to 7:00\, we offer Cocktail Hour fo
 r the high-society crowd\, with exquisite cocktails available for purchase
  and delectable passed appetizers. Following that\, the festivities contin
 ue from 7:00 to 10:00 with the live melodies of Finaleyes\, chic cocktails
 \, and delectable menu offerings.\n\nWe'll be ushering in the new year by 
 witnessing the ball drop on the east coast\, culminating in a prosecco toa
 st promptly at 10 pm MST. Hey there\, all you dapper gents and ritzy ladie
 s! We're hosting a grand celebration\, complete with a costume hullabaloo!
  Adorn yourself as the most stylish Dapper Dan or the most glamorous Flapp
 er Girl\, and you might just strut away with some magnificent prizes\, you
  see?\n\nDon't miss the chance to be part of the cat's meow celebration! T
 his is an exclusive 18+ affair\, and tickets are sure to vanish like hotca
 kes\, so make your move posthaste!\n\nGet Tickets
ATTACH;FMTTYPE=image/jpeg:https://www.whollystromboli.com/wp-content/uploa
 ds/2024/10/NYE-Social.png
CATEGORIES:Speakeasy
LOCATION:Wholly Stromboli\, 410 Denver Avenue\, Fort Lupton\, Colorado\, 80
 621\, United States
X-APPLE-STRUCTURED-LOCATION;VALUE=URI;X-ADDRESS=410 Denver Avenue\, Fort Lu
 pton\, Colorado\, 80621\, United States;X-APPLE-RADIUS=100;X-TITLE=Wholly 
 Stromboli:geo:0,0
END:VEVENT
BEGIN:VTIMEZONE
TZID:America/Denver
X-LIC-LOCATION:America/Denver
BEGIN:STANDARD
DTSTART:20241103T010000
TZOFFSETFROM:-0600
TZOFFSETTO:-0700
TZNAME:MST
END:STANDARD
END:VTIMEZONE
END:VCALENDAR