BEGIN:VCALENDAR
VERSION:2.0
PRODID:-//wp-events-plugin.com//7.2.3.1//EN
TZID:America/Denver
X-WR-TIMEZONE:America/Denver
BEGIN:VEVENT
UID:5@whollystromboli.com
DTSTART;TZID=America/Denver:20241031T110000
DTEND;TZID=America/Denver:20241031T210000
DTSTAMP:20241029T211851Z
URL:https://www.whollystromboli.com/events/halloween-deals/
SUMMARY:Halloween - Free Kids' Pizza!
DESCRIPTION:Attention parents! Join us on Halloween day (October 31st All D
 ay) for a special treat—get a free kids’ jack-o-lantern pepperoni pizz
 a with the purchase of any adult entrée!\n\n&nbsp\;
ATTACH;FMTTYPE=image/jpeg:https://www.whollystromboli.com/wp-content/uploa
 ds/2024/10/KidsPizza_Flyer-3-x-3.png
CATEGORIES:Holiday,Restaurant Deals
LOCATION:Wholly Stromboli\, 410 Denver Avenue\, Fort Lupton\, Colorado\, 80
 621\, United States
X-APPLE-STRUCTURED-LOCATION;VALUE=URI;X-ADDRESS=410 Denver Avenue\, Fort Lu
 pton\, Colorado\, 80621\, United States;X-APPLE-RADIUS=100;X-TITLE=Wholly 
 Stromboli:geo:0,0
END:VEVENT
BEGIN:VTIMEZONE
TZID:America/Denver
X-LIC-LOCATION:America/Denver
BEGIN:DAYLIGHT
DTSTART:20240310T030000
TZOFFSETFROM:-0700
TZOFFSETTO:-0600
TZNAME:MDT
END:DAYLIGHT
END:VTIMEZONE
END:VCALENDAR