BEGIN:VCALENDAR
VERSION:2.0
PRODID:-//wp-events-plugin.com//7.2.3.1//EN
TZID:America/Denver
X-WR-TIMEZONE:America/Denver
BEGIN:VEVENT
UID:9@whollystromboli.com
DTSTART;TZID=America/Denver:20250306T180000
DTEND;TZID=America/Denver:20250306T203000
DTSTAMP:20250103T180136Z
URL:https://www.whollystromboli.com/events/dueling-pianos-march/
SUMMARY:Dueling Pianos
DESCRIPTION:Join us for an unforgettable evening of music and entertainment
  at our 18+  Speakeasy! Get ready to experience the thrill of dueling pia
 nos as talented musicians go head-to-head\, playing your favorite songs an
 d taking your requests.\n\nLocated at Wholly Stromboli\, this in-person ev
 ent promises a lively atmosphere and a night filled with laughter\, sing-a
 longs\, and toe-tapping tunes. Whether you're a fan of rock\, pop\, or eve
 n classic hits\, our pianists will have you on your feet\, dancing and sin
 ging along in no time.\n\nBring your friends\, grab a drink\, and enjoy th
 e unique energy of this one-of-a-kind event. The Speakeasy at Wholly Strom
 boli is the place to be for an evening of musical showdowns and non-stop f
 un!\n\nBuy Tickets
ATTACH;FMTTYPE=image/jpeg:https://www.whollystromboli.com/wp-content/uploa
 ds/2024/11/Dueling-Pianos-March6_Social.png
CATEGORIES:Speakeasy
LOCATION:Wholly Stromboli\, 410 Denver Ave.\, Fort Lupton\, CO.\, 80621\, W
 eld\, United States
X-APPLE-STRUCTURED-LOCATION;VALUE=URI;X-ADDRESS=410 Denver Ave.\, Fort Lupt
 on\, CO.\, 80621\, Weld\, United States;X-APPLE-RADIUS=100;X-TITLE=Wholly 
 Stromboli:geo:0,0
END:VEVENT
BEGIN:VTIMEZONE
TZID:America/Denver
X-LIC-LOCATION:America/Denver
BEGIN:STANDARD
DTSTART:20241103T010000
TZOFFSETFROM:-0600
TZOFFSETTO:-0700
TZNAME:MST
END:STANDARD
END:VTIMEZONE
END:VCALENDAR