BEGIN:VCALENDAR
VERSION:2.0
PRODID:-//wp-events-plugin.com//7.2.3.1//EN
TZID:America/Denver
X-WR-TIMEZONE:America/Denver
BEGIN:VEVENT
UID:2@whollystromboli.com
DTSTART;TZID=America/Denver:20250213T173000
DTEND;TZID=America/Denver:20250213T203000
DTSTAMP:20250103T180630Z
URL:https://www.whollystromboli.com/events/delta-sonics-february-concert/
SUMMARY:Blues & Hearts: A Valentine’s Night with the Delta Sonics
DESCRIPTION:Kick off your Valentine's celebration early on Thursday\, Febru
 ary 13th\, with an unforgettable evening featuring the Delta Sonics Band! 
 Known for their electrifying blend of jazz\, funk\, and blues\, the band w
 ill keep you grooving all night long. For just $25\, enjoy show admission 
 and a complimentary glass of prosecco. Savor our diverse dinner and cockta
 il menu while you soak in the music. This is a 18+ event\, so bring your f
 riends and make it a Valentine's to remember!\n\nBuy Tickets
ATTACH;FMTTYPE=image/jpeg:https://www.whollystromboli.com/wp-content/uploa
 ds/2024/10/Delta-Sonics-Feb-13-Concert-Social.jpg
CATEGORIES:Holiday,Speakeasy
LOCATION:Wholly Stromboli\, 410 Denver Avenue\, Fort Lupton\, Colorado\, 80
 621\, United States
X-APPLE-STRUCTURED-LOCATION;VALUE=URI;X-ADDRESS=410 Denver Avenue\, Fort Lu
 pton\, Colorado\, 80621\, United States;X-APPLE-RADIUS=100;X-TITLE=Wholly 
 Stromboli:geo:0,0
END:VEVENT
BEGIN:VTIMEZONE
TZID:America/Denver
X-LIC-LOCATION:America/Denver
BEGIN:STANDARD
DTSTART:20241103T010000
TZOFFSETFROM:-0600
TZOFFSETTO:-0700
TZNAME:MST
END:STANDARD
END:VTIMEZONE
END:VCALENDAR