BEGIN:VCALENDAR
VERSION:2.0
PRODID:-//wp-events-plugin.com//7.2.3.1//EN
TZID:America/Denver
X-WR-TIMEZONE:America/Denver
BEGIN:VEVENT
UID:7@whollystromboli.com
DTSTART;TZID=America/Denver;VALUE=DATE:20241224
DTEND;TZID=America/Denver;VALUE=DATE:20241226
DTSTAMP:20241029T212815Z
URL:https://www.whollystromboli.com/events/christmas-hours/
SUMMARY:Christmas - Closed
DESCRIPTION:Wholly Stromboli will be closed on Christmas Eve and Christmas 
 Day so our team can enjoy the holiday. We look forward to serving you on T
 hursday—see you then!\n\n&nbsp\;
ATTACH;FMTTYPE=image/jpeg:https://www.whollystromboli.com/wp-content/uploa
 ds/2024/10/Beige-and-Red-Minimalist-Closed-For-Christmas-Poster.png
CATEGORIES:Holiday
LOCATION:Wholly Stromboli\, 410 Denver Avenue\, Fort Lupton\, Colorado\, 80
 621\, United States
X-APPLE-STRUCTURED-LOCATION;VALUE=URI;X-ADDRESS=410 Denver Avenue\, Fort Lu
 pton\, Colorado\, 80621\, United States;X-APPLE-RADIUS=100;X-TITLE=Wholly 
 Stromboli:geo:0,0
END:VEVENT
BEGIN:VTIMEZONE
TZID:America/Denver
X-LIC-LOCATION:America/Denver
BEGIN:STANDARD
DTSTART:20241103T010000
TZOFFSETFROM:-0600
TZOFFSETTO:-0700
TZNAME:MST
END:STANDARD
END:VTIMEZONE
END:VCALENDAR